BEGIN:VCALENDAR
VERSION:2.0
PRODID:-//AudioTheme 2.3.3
BEGIN:VEVENT
UID:https://www.christosbarbas.com/?post_type=audiotheme_gig&#038;p=2054
URL:https://christosbarbas.com/calendar/zohar-fresco-quartet-7/
DTSTART;TZID=GMT:20160524T000000
SUMMARY:Zohar Fresco Quartet
LOCATION:Enter Enea Festival\, Poznan\, Poland\, \, Poland
END:VEVENT
END:VCALENDAR
