BEGIN:VCALENDAR
VERSION:2.0
PRODID:-//AudioTheme 2.3.3
BEGIN:VEVENT
UID:https://www.christosbarbas.com/?post_type=audiotheme_gig&#038;p=1978
URL:https://christosbarbas.com/calendar/zohar-fresco-quartet-6/
DTSTART;TZID=GMT:20151114T190000
SUMMARY:Zohar Fresco Quartet
DESCRIPTION:Presenting Zohar Fresco debut solo album "Tof Miriam"
LOCATION:Jerusalem Oud Festival\, \, Jerusalem
END:VEVENT
END:VCALENDAR
