BEGIN:VCALENDAR
VERSION:2.0
PRODID:-//AudioTheme 2.3.3
BEGIN:VEVENT
UID:https://www.christosbarbas.com/?post_type=audiotheme_gig&#038;p=1932
URL:https://christosbarbas.com/calendar/zohar-fresco-quartet-5/
DTSTART;TZID=GMT:20150930T173000
SUMMARY:Zohar Fresco Quartet
LOCATION:Beith Hayotzer\, Tel Aviv\, Israel\, 
END:VEVENT
END:VCALENDAR
