BEGIN:VCALENDAR
VERSION:2.0
PRODID:-//AudioTheme 2.3.3
BEGIN:VEVENT
UID:https://www.christosbarbas.com/?post_type=audiotheme_gig&#038;p=2044
URL:https://christosbarbas.com/calendar/with-peppe-frana/
DTSTART;TZID=GMT:20160319T190000
SUMMARY:with Peppe Frana
LOCATION:Tar Music Shop\, Roma\, Italy\, 
END:VEVENT
END:VCALENDAR
