BEGIN:VCALENDAR
VERSION:2.0
PRODID:-//AudioTheme 2.3.3
BEGIN:VEVENT
UID:https://www.christosbarbas.com/?post_type=audiotheme_gig&#038;p=2038
URL:https://christosbarbas.com/calendar/weekend-seminar-in-forli/
DTSTART;TZID=GMT:20160305T090000
SUMMARY:Weekend Seminar in Forli
LOCATION:Centro Culturale Khatawat\,  \, Forli\, \, 47122
END:VEVENT
END:VCALENDAR
