BEGIN:VCALENDAR
VERSION:2.0
PRODID:-//AudioTheme 2.3.3
BEGIN:VEVENT
UID:urn:uuid:aa9931db-79bb-432c-be2a-14b262e0aa94
URL:https://christosbarbas.com/calendar/tord-gustavsen-christos-barbas-3/
DTSTART;TZID=GMT:20260522T000000
SUMMARY:Tord Gustavsen & Christos Barbas
DESCRIPTION:Tord Gustavsen & Christos Barbas
LOCATION:Tanum Church\, Oslo\, 
END:VEVENT
END:VCALENDAR
