BEGIN:VCALENDAR
VERSION:2.0
PRODID:-//AudioTheme 2.3.3
BEGIN:VEVENT
UID:https://www.christosbarbas.com/?post_type=audiotheme_gig&#038;p=2050
URL:https://christosbarbas.com/calendar/ross-daly-labyrinth-ensemble/
DTSTART;TZID=GMT:20160508T160000
SUMMARY:Ross Daly & Labyrinth Ensemble
DESCRIPTION:El domingo 8 de Mayo "Ross Daly & Labyrinth Ensemble" en Barcelona!  Festival Balkabarna | 18:00  Antiga Fàbrica Estella Damn
LOCATION:Balkabarna Festival\, Barcelona\, \, Catalunya
END:VEVENT
END:VCALENDAR
