BEGIN:VCALENDAR
VERSION:2.0
PRODID:-//AudioTheme 2.3.3
BEGIN:VEVENT
UID:https://www.christosbarbas.com/?post_type=audiotheme_gig&#038;p=1999
URL:https://christosbarbas.com/calendar/neda-6/
DTSTART;TZID=GMT:20151213T180000
SUMMARY:Neda
DESCRIPTION:with Viktoria Taskou (Oud-Voice)\, Giorgos Papaioannou (Violin)\, Pavlos Spyropoulos (Double-Bass)
LOCATION:Art Base\, Brussels\, 
END:VEVENT
END:VCALENDAR
