BEGIN:VCALENDAR
VERSION:2.0
PRODID:-//AudioTheme 2.3.3
BEGIN:VEVENT
UID:https://www.christosbarbas.com/?post_type=audiotheme_gig&#038;p=2001
URL:https://christosbarbas.com/calendar/neda-10/
DTSTART;TZID=GMT:20151212T190000
SUMMARY:Neda
LOCATION:Ursulinen Kapel\, Elzenhof 139\, 5038 HJ Tilburg\, Tilburg\, \, Netherlands
END:VEVENT
END:VCALENDAR
