BEGIN:VCALENDAR
VERSION:2.0
PRODID:-//AudioTheme 2.3.3
BEGIN:VEVENT
UID:https://www.christosbarbas.com/?post_type=audiotheme_gig&#038;p=1971
URL:https://christosbarbas.com/calendar/magnanimus-trio-3/
DTSTART;TZID=GMT:20151204T190000
SUMMARY:Magnanimus Trio
DESCRIPTION:Opening the 5th Panorama of Greek Jazz   http://www.sgt.gr/eng/SPG1399/?
LOCATION:Onassis Cultural Center\, Leoforos Syggrou 107-109\, Athens\, \, Greece\, 11745
END:VEVENT
END:VCALENDAR
