BEGIN:VCALENDAR
VERSION:2.0
PRODID:-//AudioTheme 2.3.3
BEGIN:VEVENT
UID:https://www.christosbarbas.com/?post_type=audiotheme_gig&#038;p=1969
URL:https://christosbarbas.com/calendar/magnanimus-trio-2/
DTSTART;TZID=GMT:20150829T000000
SUMMARY:Magnanimus Trio
END:VEVENT
END:VCALENDAR
