BEGIN:VCALENDAR
VERSION:2.0
PRODID:-//AudioTheme 2.3.3
BEGIN:VEVENT
UID:https://www.christosbarbas.com/?post_type=audiotheme_gig&#038;p=1973
URL:https://christosbarbas.com/calendar/efren-lopez-abracadabra-4/
DTSTART;TZID=GMT:20151107T200000
SUMMARY:Efrén López & Abracadabra
LOCATION:Sala Russafa\, Valencia\, Spain\, 
END:VEVENT
END:VCALENDAR
