BEGIN:VCALENDAR
VERSION:2.0
PRODID:-//AudioTheme 2.3.3
BEGIN:VEVENT
UID:https://www.christosbarbas.com/?post_type=audiotheme_gig&#038;p=2042
URL:https://christosbarbas.com/calendar/calixtinus-ensemble-faraualla/
DTSTART;TZID=GMT:20160320T000000
SUMMARY:Calixtinus Ensemble & Faraualla
LOCATION:Benevento\, Benevento\, Italy\, \, Italy
END:VEVENT
END:VCALENDAR
