BEGIN:VCALENDAR
VERSION:2.0
PRODID:-//AudioTheme 2.3.3
BEGIN:VEVENT
UID:https://www.christosbarbas.com/?post_type=audiotheme_gig&#038;p=1938
URL:https://christosbarbas.com/calendar/6th-houdetsi-festival-3/
DTSTART;TZID=GMT:20150809T170000
SUMMARY:6th Houdetsi Festival
LOCATION:Houdetsi Festival\, Houdetsi / Crete\, Houdetsi\, Greece\, \, 70100
END:VEVENT
END:VCALENDAR
